BEGIN:VCALENDAR
VERSION:2.0
PRODID:-//bootsscheine.com - ECPv6.15.20//NONSGML v1.0//EN
CALSCALE:GREGORIAN
METHOD:PUBLISH
X-ORIGINAL-URL:https://www.bootsscheine.com
X-WR-CALDESC:Veranstaltungen für bootsscheine.com
REFRESH-INTERVAL;VALUE=DURATION:PT1H
X-Robots-Tag:noindex
X-PUBLISHED-TTL:PT1H
BEGIN:VTIMEZONE
TZID:Europe/Berlin
BEGIN:DAYLIGHT
TZOFFSETFROM:+0100
TZOFFSETTO:+0200
TZNAME:CEST
DTSTART:20210328T010000
END:DAYLIGHT
BEGIN:STANDARD
TZOFFSETFROM:+0200
TZOFFSETTO:+0100
TZNAME:CET
DTSTART:20211031T010000
END:STANDARD
BEGIN:DAYLIGHT
TZOFFSETFROM:+0100
TZOFFSETTO:+0200
TZNAME:CEST
DTSTART:20220327T010000
END:DAYLIGHT
BEGIN:STANDARD
TZOFFSETFROM:+0200
TZOFFSETTO:+0100
TZNAME:CET
DTSTART:20221030T010000
END:STANDARD
BEGIN:DAYLIGHT
TZOFFSETFROM:+0100
TZOFFSETTO:+0200
TZNAME:CEST
DTSTART:20230326T010000
END:DAYLIGHT
BEGIN:STANDARD
TZOFFSETFROM:+0200
TZOFFSETTO:+0100
TZNAME:CET
DTSTART:20231029T010000
END:STANDARD
END:VTIMEZONE
BEGIN:VEVENT
DTSTART;TZID=Europe/Berlin:20220410T100000
DTEND;TZID=Europe/Berlin:20220410T160000
DTSTAMP:20260422T000318
CREATED:20220122T112557Z
LAST-MODIFIED:20240123T110919Z
UID:4521-1649584800-1649606400@www.bootsscheine.com
SUMMARY:Lehrgang Sportbootführerschein Kombikurs See & Binnen-Motor (1/2) - AUSGEBUCHT
DESCRIPTION:Im ersten Teil geht es um die Grundlagen für den Sportbootführerschein See. \nDer Theorieunterricht findet in einer individuellen kleinen Gruppe statt\, es gelten die 3G-Regeln. \nBitte bringt folgende Unterlagen zum Lehrgang mit: \n\närztliches Attest\nKopie Personalausweis\nKopie Führerschein oder polizeiliches Führungszeugnis\nPassfoto\nPrüfungsgebühr\nLehrbuch See\n\nDie Termine zur praktischen Übung werden zum Lehrgang individuell vergeben. \nAlles weitere klären wir im Vorfeld direkt. \n  \n» Jetzt anmelden (bitte Wunschzeitraum angeben) \nfreie Plätze: 0/6 \nPrüfungstermin: Samstag\, 11. Juni 2022 in Niederlommatzsch bei Meißen
URL:https://www.bootsscheine.com/termin/lehrgang-sportbootfuehrerschein-kombikurs-see-binnen-motor-wochenendkurs-1-2/
LOCATION:Hafen Dresden Pieschen\, Leipziger Str. 91\, Dresden\, Sachsen\, 01127\, Deutschland
CATEGORIES:Theoriekurs
ATTACH;FMTTYPE=image/jpeg:https://www.bootsscheine.com/wp-content/uploads/2022/07/20240120_181356-scaled.jpg
ORGANIZER;CN="bootsscheine.com":MAILTO:andreas@bootsscheine.com
END:VEVENT
END:VCALENDAR